Workbook

Sheet Cuestionario
A1: Instrucciones de uso
B2: 1. Seleccione el nivel del 1 al 5 para cada pregunta. 2. Los niveles representan: 1: Nunca | 2: A veces | 3: Habitualmente | 4: Siempre | 5: Totalmente estandarizado y controlado.
A4: Nº | B4: Pregunta | C4: Nivel (1 a 5) | D4: Calificación | F4: Termometro | G4: Nivel | H4: Grado de Madurez
A5: 1 | B5: ¿Los procesos están documentados formalmente? | C5: Elegir lista desplegable | D5: =+IFERROR(VLOOKUP(C5,Resultados!$A$2:$B$6,2,0),"") | F5: 5 | G5: =+IF(F5>$C$17,"",1) -> 1 | H5: =+IF(G5="","",IFERROR(HLOOKUP(F5,$C$17:$C$18,2,1),""))
A6: 2 | B6: ¿Los procesos tienen indicadores definidos y se controlan periódicamente? | C6: Elegir lista desplegable | D6: =+IFERROR(VLOOKUP(C6,Resultados!$A$2:$B$6,2,0),"") | F6: 4 | G6: =+IF(F6>$C$17,"",1) -> 1 | H6: =+IF(G6="","",IFERROR(HLOOKUP(F6,$C$17:$C$18,2,1),""))
A7: 3 | B7: ¿Se realiza capacitación periódica sobre los procesos? | C7: Elegir lista desplegable | D7: =+IFERROR(VLOOKUP(C7,Resultados!$A$2:$B$6,2,0),"") | F7: 3 | G7: =+IF(F7>$C$17,"",1) -> 1 | H7: =+IF(G7="","",IFERROR(HLOOKUP(F7,$C$17:$C$18,2,1),""))
A8: 4 | B8: ¿Se identifican responsables y roles en cada proceso? | C8: Elegir lista desplegable | D8: =+IFERROR(VLOOKUP(C8,Resultados!$A$2:$B$6,2,0),"") | F8: 2 | G8: =+IF(F8>$C$17,"",1) -> 1 | H8: =+IF(G8="","",IFERROR(HLOOKUP(F8,$C$17:$C$18,2,1),""))
A9: 5 | B9: ¿Existe una metodología formal de mejora continua aplicada a procesos? | C9: Elegir lista desplegable | D9: =+IFERROR(VLOOKUP(C9,Resultados!$A$2:$B$6,2,0),"") | F9: 1 | G9: =+IF(F9>$C$17,"",1) -> 1 | H9: =+IF(G9="","",IFERROR(HLOOKUP(F9,$C$17:$C$18,2,1),""))
A10: 6 | B10: ¿Los procesos están alineados con los objetivos estratégicos de la empresa? | C10: Elegir lista desplegable | D10: =+IFERROR(VLOOKUP(C10,Resultados!$A$2:$B$6,2,0),"")
A11: 7 | B11: ¿Se realiza seguimiento de los resultados de los procesos? | C11: Elegir lista desplegable | D11: =+IFERROR(VLOOKUP(C11,Resultados!$A$2:$B$6,2,0),"") | F11: Recomendación | G11: =IF(C18="Incipiente","Se recomienda iniciar la documentación básica de procesos y roles clave.",IF(C18="Repetible","Es momento de estandarizar procesos y definir responsables.",IF(C18="Definido","Implementar métricas y gestión basada en datos.",IF(C18="Gestionado","Consolidar los controles y fomentar la mejora continua.",IF(C18="Optimizado","Puede convertirse en un referente de gestión por procesos.","")))))
A12: 8 | B12: ¿Se usan herramientas tecnológicas para gestionar los procesos? | C12: Elegir lista desplegable | D12: =+IFERROR(VLOOKUP(C12,Resultados!$A$2:$B$6,2,0),"")
A13: 9 | B13: ¿Los procesos se revisan y actualizan regularmente? | C13: Elegir lista desplegable | D13: =+IFERROR(VLOOKUP(C13,Resultados!$A$2:$B$6,2,0),"")
A14: 10 | B14: ¿Se analizan y corrigen las no conformidades relacionadas a procesos? | C14: Elegir lista desplegable | D14: =+IFERROR(VLOOKUP(C14,Resultados!$A$2:$B$6,2,0),"")
B17: Resultado del Promedio | C17: =IFERROR(AVERAGE(Cuestionario!C5:C14),"Sin datos") -> Sin datos
B18: Nivel de Madurez | C18: =IF(C17="Sin datos","Sin datos",IF(C17<2,"Incipiente",IF(C17<3,"Repetible",IF(C17<4,"Definido",IF(C17<4.5,"Gestionado","Optimizado"))))) -> Sin datos

Sheet Resultados
A1: Elegir lista desplegable
A2: 1 | B2: Nunca
A3: 2 | B3: A veces
A4: 3 | B4: Habitualmente
A5: 4 | B5: Siempre
A6: 5 | B6: Totalmente Estandarizado

Sheet Instrucciones
